BEGIN:VCALENDAR
VERSION:2.0
PRODID:-//ChamberMaster//Event Calendar 2.0//EN
METHOD:PUBLISH
X-PUBLISHED-TTL:P3D
REFRESH-INTERVAL:P3D
CALSCALE:GREGORIAN
BEGIN:VEVENT
DTSTART:20211007T170000Z
DTEND:20211007T180000Z
X-MICROSOFT-CDO-ALLDAYEVENT:FALSE
SUMMARY:Practical Steps to Recovery for Hospitality and Travel Businesses
DESCRIPTION:Hospitality and travel businesses were hit hard during the pandemic. Now that many restrictions have lifted\, people are traveling\, dining out\, and enjoying live entertainment. But recovery won't look like the past. Businesses need to think strategically about how they operate and promote their services. First\, we will take a look at the new landscape and make recommendations for communicating with your customers. Next\, we will take a look at the evolving trends in the travel and hospitality industries. Finally\, we'll discuss practical and cost-effective strategies to help address the new trends and help your business thrive in this new environment.\nInstructions: In response to COVID-19 public health concerns\, all workshops will be held on ZOOM\, an online video platform\, until further notice. To maintain quality and security during virtual events\, you will be sent a link to join the meeting on the day of the event\, up to 30 minutes prior to the scheduled start time. If you do not receive the link check your spam inbox then call (909)-890-1242 for assistance.
X-ALT-DESC;FMTTYPE=text/html:<div class="conf-desc" style="padding-top: 0px\; padding-bottom: 10px\; font-family: Lato\, Arial\, Helvetica\, sans-serif\; font-size: 16px\;">Hospitality and travel businesses were hit hard during the pandemic. Now that many restrictions have lifted\, people are traveling\, dining out\, and enjoying live entertainment. But recovery won&#39\;t look like the past. Businesses need to think strategically about how they operate and promote their services. First\, we will take a look at the new landscape and make recommendations for communicating with your customers. Next\, we will take a look at the evolving trends in the travel and hospitality industries. Finally\, we&#39\;ll discuss practical and cost-effective strategies to help address the new trends and help your business thrive in this new environment.</div>\n<label style="font-weight: bold\; line-height: 20px\; font-family: Lato\, Arial\, Helvetica\, sans-serif\; font-size: 16px\;">Instructions:</label><span style="font-family: Lato\, Arial\, Helvetica\, sans-serif\; font-size: 16px\;">&nbsp\;In response to COVID-19 public health concerns\, all workshops will be held on ZOOM\, an online video platform\, until further notice. To maintain quality and security during virtual events\, you will be sent a link to join the meeting on the day of the event\, up to 30 minutes prior to the scheduled start time. If you do not receive the link check your spam inbox then call (909)-890-1242 for assistance.</span>
LOCATION:Zoom
UID:e.2030.5394
SEQUENCE:3
DTSTAMP:20260421T065713Z
URL:http://business.fvchamber.com/events/details/practical-steps-to-recovery-for-hospitality-and-travel-businesses-5394
END:VEVENT

END:VCALENDAR
