BEGIN:VCALENDAR
VERSION:2.0
PRODID:-//ChamberMaster//Event Calendar 2.0//EN
METHOD:PUBLISH
X-PUBLISHED-TTL:P3D
REFRESH-INTERVAL:P3D
CALSCALE:GREGORIAN
BEGIN:VEVENT
DTSTART:20211005T170000Z
DTEND:20211005T180000Z
X-MICROSOFT-CDO-ALLDAYEVENT:FALSE
SUMMARY:PPC Advertising: Increase Your Relevant & Warm Leads With Google\, Microsoft\, and Linkedin Advertising
DESCRIPTION:Google AdWords drives targeted\, relevant\, and specific traffic to your website. See how the most powerful advertising tool ever created can generate more sales for your company. Get lower costs per lead and higher return on ad spend with PPC advertising.  \n\nWhat you will learn: \n\n         How you can attract targeted and relevant traffic to your website in 24 hours\n\n         Why all clicks are not created equal\n\n         Why paid search is the most powerful tool in your digital arsenal\n\n         Why PPC advertising is more powerful yet complimentary to social media\n\n         How PPC captures demand for your products and services\n\n         Find out whether it's best to do paid search in-house or hire an agency\n\n         Why more people buy with PPC ads when looking to purchase online
X-ALT-DESC;FMTTYPE=text/html:<p style="box-sizing: border-box\; margin-top: 0px\; margin-bottom: 1.75em\; widows: 3\; orphans: 3\; color: rgb(20\, 20\, 20)\; font-family: Montserrat\, sans-serif\; font-size: 16px\; background-color: rgb(255\, 255\, 255)\;">Google AdWords drives targeted\, relevant\, and specific traffic to your website. See how the most powerful advertising tool ever created can generate more sales for your company. Get lower costs per lead and higher return on ad spend with PPC advertising.&nbsp\;&nbsp\;</p>\n\n<p style="box-sizing: border-box\; margin-top: 0px\; margin-bottom: 1.75em\; widows: 3\; orphans: 3\; color: rgb(20\, 20\, 20)\; font-family: Montserrat\, sans-serif\; font-size: 16px\; background-color: rgb(255\, 255\, 255)\;">What you will learn:&nbsp\;</p>\n\n<p style="box-sizing: border-box\; margin-top: 0px\; margin-bottom: 1.75em\; widows: 3\; orphans: 3\; color: rgb(20\, 20\, 20)\; font-family: Montserrat\, sans-serif\; font-size: 16px\; background-color: rgb(255\, 255\, 255)\;">&middot\;&nbsp\;&nbsp\;&nbsp\;&nbsp\;&nbsp\;&nbsp\;&nbsp\;&nbsp\;How you can attract targeted and relevant traffic to your website in 24 hours</p>\n\n<p style="box-sizing: border-box\; margin-top: 0px\; margin-bottom: 1.75em\; widows: 3\; orphans: 3\; color: rgb(20\, 20\, 20)\; font-family: Montserrat\, sans-serif\; font-size: 16px\; background-color: rgb(255\, 255\, 255)\;">&middot\;&nbsp\;&nbsp\;&nbsp\;&nbsp\;&nbsp\;&nbsp\;&nbsp\;&nbsp\;Why all clicks are not created equal</p>\n\n<p style="box-sizing: border-box\; margin-top: 0px\; margin-bottom: 1.75em\; widows: 3\; orphans: 3\; color: rgb(20\, 20\, 20)\; font-family: Montserrat\, sans-serif\; font-size: 16px\; background-color: rgb(255\, 255\, 255)\;">&middot\;&nbsp\;&nbsp\;&nbsp\;&nbsp\;&nbsp\;&nbsp\;&nbsp\;&nbsp\;Why paid search is the most powerful tool in your digital arsenal</p>\n\n<p style="box-sizing: border-box\; margin-top: 0px\; margin-bottom: 1.75em\; widows: 3\; orphans: 3\; color: rgb(20\, 20\, 20)\; font-family: Montserrat\, sans-serif\; font-size: 16px\; background-color: rgb(255\, 255\, 255)\;">&middot\;&nbsp\;&nbsp\;&nbsp\;&nbsp\;&nbsp\;&nbsp\;&nbsp\;&nbsp\;Why PPC advertising is more powerful yet complimentary to social media</p>\n\n<p style="box-sizing: border-box\; margin-top: 0px\; margin-bottom: 1.75em\; widows: 3\; orphans: 3\; color: rgb(20\, 20\, 20)\; font-family: Montserrat\, sans-serif\; font-size: 16px\; background-color: rgb(255\, 255\, 255)\;">&middot\;&nbsp\;&nbsp\;&nbsp\;&nbsp\;&nbsp\;&nbsp\;&nbsp\;&nbsp\;How PPC captures demand for your products and services</p>\n\n<p style="box-sizing: border-box\; margin-top: 0px\; margin-bottom: 1.75em\; widows: 3\; orphans: 3\; color: rgb(20\, 20\, 20)\; font-family: Montserrat\, sans-serif\; font-size: 16px\; background-color: rgb(255\, 255\, 255)\;">&middot\;&nbsp\;&nbsp\;&nbsp\;&nbsp\;&nbsp\;&nbsp\;&nbsp\;&nbsp\;Find out whether it&rsquo\;s best to do paid search in-house or hire an agency</p>\n\n<p style="box-sizing: border-box\; margin-top: 0px\; margin-bottom: 1.75em\; widows: 3\; orphans: 3\; color: rgb(20\, 20\, 20)\; font-family: Montserrat\, sans-serif\; font-size: 16px\; background-color: rgb(255\, 255\, 255)\;">&middot\;&nbsp\;&nbsp\;&nbsp\;&nbsp\;&nbsp\;&nbsp\;&nbsp\;&nbsp\;Why more people buy with PPC ads when looking to purchase online</p>\n
LOCATION:Zoom
UID:e.2030.5389
SEQUENCE:3
DTSTAMP:20260421T084021Z
URL:http://business.fvchamber.com/events/details/ppc-advertising-increase-your-relevant-warm-leads-with-google-microsoft-and-linkedin-advertising-5389
END:VEVENT

END:VCALENDAR
