BEGIN:VCALENDAR
VERSION:2.0
PRODID:-//ChamberMaster//Event Calendar 2.0//EN
METHOD:PUBLISH
X-PUBLISHED-TTL:P3D
REFRESH-INTERVAL:P3D
CALSCALE:GREGORIAN
BEGIN:VEVENT
DTSTART:20160505T003000Z
DTEND:20160505T020000Z
X-MICROSOFT-CDO-ALLDAYEVENT:FALSE
SUMMARY:POSTPONED-Stacy's Closet Ribbon Cutting
DESCRIPTION:Stacy's Closet Grand Opening has been postponed until June.  Date to follow.\n\n\n\nStacy's Closet\n\nGrand Opening / Ribbon Cutting
X-ALT-DESC;FMTTYPE=text/html:<span style="font-size:18px\;"><strong><em>Stacy&#39\;s Closet Grand Opening has been postponed until June. &nbsp\;Date to follow.</em><br />\n<br />\nStacy&#39\;s Closet<br />\nGrand Opening / Ribbon Cutting</strong></span>
LOCATION:8598 Warner Avenue (after May 1st) Fountain Valley
UID:e.2030.2804
SEQUENCE:3
DTSTAMP:20260425T142003Z
URL:http://business.fvchamber.com/events/details/postponed-stacy-s-closet-ribbon-cutting-05-04-2016-2804
END:VEVENT

END:VCALENDAR
