BEGIN:VCALENDAR
VERSION:2.0
PRODID:-//ChamberMaster//Event Calendar 2.0//EN
METHOD:PUBLISH
X-PUBLISHED-TTL:P3D
REFRESH-INTERVAL:P3D
CALSCALE:GREGORIAN
BEGIN:VEVENT
DTSTART:20160331T003000Z
DTEND:20160331T023000Z
X-MICROSOFT-CDO-ALLDAYEVENT:FALSE
SUMMARY:POSPONED-Stacy's Closet Ribbon Cutting
DESCRIPTION:Stacy's Closet Ribbon Cutting has been postponed as they will be moving to a new location.
X-ALT-DESC;FMTTYPE=text/html:<span style="font-size:18px\;"><strong>Stacy&#39\;s Closet Ribbon Cutting has been postponed as they will be moving to a new location.</strong></span>
LOCATION:8868 Warner Avenue (at Magnolia) Fountain Valley\, CA 92708
UID:e.2030.2797
SEQUENCE:3
DTSTAMP:20260425T172849Z
URL:http://business.fvchamber.com/events/details/posponed-stacy-s-closet-ribbon-cutting-03-30-2016-2797
END:VEVENT

END:VCALENDAR
