BEGIN:VCALENDAR
VERSION:2.0
PRODID:-//ChamberMaster//Event Calendar 2.0//EN
METHOD:PUBLISH
X-PUBLISHED-TTL:P3D
REFRESH-INTERVAL:P3D
CALSCALE:GREGORIAN
BEGIN:VEVENT
DTSTART:20160810T170000Z
DTEND:20160810T180000Z
X-MICROSOFT-CDO-ALLDAYEVENT:FALSE
SUMMARY:Pompeii and the Amalfi Coast Trip Presentation
DESCRIPTION:Pompeii & the Amalfi Coast Travel Presentation\n\nThe Fountain Valley Chamber of Commerce will be traveling to Pompeii and the Amalfi Coast on March 22\, 2017. Come watch a presentation on all the wonderful sights you will see.
X-ALT-DESC;FMTTYPE=text/html:<span style="font-size:16px\;"><strong>Pompeii &amp\; the Amalfi Coast Travel Presentation</strong><br />\n<span style="font-size:12px\;">The Fountain Valley Chamber of Commerce will be traveling to Pompeii and the Amalfi Coast on March 22\, 2017. Come watch a presentation on all the wonderful sights you will see.</span></span>
LOCATION:The Center at Founder's Village 17967 Bushard Street Fountain Valley
UID:e.2030.2820
SEQUENCE:3
DTSTAMP:20260425T112056Z
URL:http://business.fvchamber.com/events/details/pompeii-and-the-amalfi-coast-trip-presentation-08-10-2016-2820
END:VEVENT

END:VCALENDAR
