BEGIN:VCALENDAR
VERSION:2.0
PRODID:-//ChamberMaster//Event Calendar 2.0//EN
METHOD:PUBLISH
X-PUBLISHED-TTL:P3D
REFRESH-INTERVAL:P3D
CALSCALE:GREGORIAN
BEGIN:VEVENT
DTSTART:20150802T000000Z
DTEND:20150802T040000Z
X-MICROSOFT-CDO-ALLDAYEVENT:FALSE
SUMMARY:Pins for Kids Bowling Tournament
DESCRIPTION:Kiwanis Club of Fountain Valley\n\nPins for Kids Bowling Tournament
X-ALT-DESC;FMTTYPE=text/html:Kiwanis Club of Fountain Valley<br />\nPins for Kids Bowling Tournament
LOCATION:Fountain Bowl 17110 Brookhurst Street Fountain Valley\, CA 92708
UID:e.2030.1735
SEQUENCE:3
DTSTAMP:20260426T041803Z
URL:http://business.fvchamber.com/events/details/pins-for-kids-bowling-tournament-08-01-2015-1735
END:VEVENT

END:VCALENDAR
