BEGIN:VCALENDAR
VERSION:2.0
PRODID:-//ChamberMaster//Event Calendar 2.0//EN
METHOD:PUBLISH
X-PUBLISHED-TTL:P3D
REFRESH-INTERVAL:P3D
CALSCALE:GREGORIAN
BEGIN:VEVENT
DTSTART:20220122T203000Z
DTEND:20220122T213000Z
X-MICROSOFT-CDO-ALLDAYEVENT:FALSE
SUMMARY:Peak State Yoga Ribbon Cutting
DESCRIPTION:Join us to help celebrate the grand opening of Peak State Yoga!
X-ALT-DESC;FMTTYPE=text/html:<span style="color:#0000CD\;"><span style="font-size:20px\;"><span style="font-family:verdana\;"><strong>Join us to help celebrate the grand opening of Peak State Yoga!</strong></span></span></span>
LOCATION:8780 Warner Ave. Suite 7 Fountain Valley\, CA 92708
UID:e.2030.5424
SEQUENCE:3
DTSTAMP:20260421T014740Z
URL:http://business.fvchamber.com/events/details/peak-state-yoga-ribbon-cutting-5424
END:VEVENT

END:VCALENDAR
