BEGIN:VCALENDAR
VERSION:2.0
PRODID:-//ChamberMaster//Event Calendar 2.0//EN
METHOD:PUBLISH
X-PUBLISHED-TTL:P3D
REFRESH-INTERVAL:P3D
CALSCALE:GREGORIAN
BEGIN:VEVENT
DTSTART:20191214T180000Z
DTEND:20191214T200000Z
X-MICROSOFT-CDO-ALLDAYEVENT:FALSE
SUMMARY:Pawliday Photos with Santa
DESCRIPTION:Join us over at Beach City Dog Camp\, on the corner of Magnolia and Talbert\, for Holiday Dog Photos with Santa! Bring your dogs\, friends and even the whole family for a festive morning full of cookies\, cocoa\, puppucinos\, a holiday stocking raffle\, open house tours\, exclusive sales on all retail items\, holiday music and more!
X-ALT-DESC;FMTTYPE=text/html:Join us over at Beach City Dog Camp\, on the corner of Magnolia and Talbert\, for Holiday Dog Photos with Santa! Bring your dogs\, friends and even the whole family for a festive morning full of cookies\, cocoa\, puppucinos\, a holiday stocking raffle\, open house tours\, exclusive sales on all retail items\, holiday music and more!
LOCATION:17970 Magnolia Street\, Fountain Valley CA 92708
UID:e.2030.5281
SEQUENCE:3
DTSTAMP:20260422T221934Z
URL:http://business.fvchamber.com/events/details/pawliday-photos-with-santa-5281
END:VEVENT

END:VCALENDAR
