BEGIN:VCALENDAR
VERSION:2.0
PRODID:-//ChamberMaster//Event Calendar 2.0//EN
METHOD:PUBLISH
X-PUBLISHED-TTL:P3D
REFRESH-INTERVAL:P3D
CALSCALE:GREGORIAN
BEGIN:VEVENT
DTSTART:20171117T010000Z
DTEND:20171117T030000Z
X-MICROSOFT-CDO-ALLDAYEVENT:FALSE
SUMMARY:Pacific Coast Medical Group Ribbon Cutting
DESCRIPTION:Pacific Coast Medical Group Ribbon Cutting
X-ALT-DESC;FMTTYPE=text/html:<strong><span style="font-size:16px\;">Pacific Coast Medical Group Ribbon&nbsp\;Cutting</span></strong>
LOCATION:11180 Warner Ave.\, #353 Fountain Valley
UID:e.2030.4228
SEQUENCE:3
DTSTAMP:20260424T111141Z
URL:http://business.fvchamber.com/events/details/pacific-coast-medical-group-ribbon-cutting-4228
END:VEVENT

END:VCALENDAR
