BEGIN:VCALENDAR
VERSION:2.0
PRODID:-//ChamberMaster//Event Calendar 2.0//EN
METHOD:PUBLISH
X-PUBLISHED-TTL:P3D
REFRESH-INTERVAL:P3D
CALSCALE:GREGORIAN
BEGIN:VEVENT
DTSTART:20170923T150000Z
DTEND:20170923T190000Z
X-MICROSOFT-CDO-ALLDAYEVENT:FALSE
SUMMARY:Out of the Darkness Walk
DESCRIPTION:American Foundation for Suicide Prevention\n\nOut of the Darkness Walk
X-ALT-DESC;FMTTYPE=text/html:<strong><span style="font-size:14px\;">American Foundation for Suicide Prevention</span><br />\n<span style="font-size:18px\;">Out of the Darkness Walk</span></strong>
LOCATION:Mile Square Regional Park 16801 Euclid St. Fountain Valley
UID:e.2030.4212
SEQUENCE:3
DTSTAMP:20260424T142348Z
URL:http://business.fvchamber.com/events/details/out-of-the-darkness-walk-4212
END:VEVENT

END:VCALENDAR
