BEGIN:VCALENDAR
VERSION:2.0
PRODID:-//ChamberMaster//Event Calendar 2.0//EN
METHOD:PUBLISH
X-PUBLISHED-TTL:P3D
REFRESH-INTERVAL:P3D
CALSCALE:GREGORIAN
BEGIN:VEVENT
DTSTART:20180329T230000Z
DTEND:20180330T030000Z
X-MICROSOFT-CDO-ALLDAYEVENT:FALSE
SUMMARY:Orange County's Largest Mixer 2018
DESCRIPTION:Orange County's Largest Mixer 2018\n\nhttp://www.ocmixer.com
X-ALT-DESC;FMTTYPE=text/html:<span style="font-size:16px\;"><strong>Orange County&#39\;s Largest Mixer 2018<br />\n<a href="http://www.ocmixer.com">http://www.ocmixer.com</a></strong></span>
LOCATION:OC Fair & Event Center Costa Mesa\, CA
UID:e.2030.4238
SEQUENCE:3
DTSTAMP:20260424T034719Z
URL:http://business.fvchamber.com/events/details/orange-county-s-largest-mixer-2018-4238
END:VEVENT

END:VCALENDAR
