BEGIN:VCALENDAR
VERSION:2.0
PRODID:-//ChamberMaster//Event Calendar 2.0//EN
METHOD:PUBLISH
X-PUBLISHED-TTL:P3D
REFRESH-INTERVAL:P3D
CALSCALE:GREGORIAN
BEGIN:VEVENT
DTSTART:20220211T180000Z
DTEND:20220211T220000Z
X-MICROSOFT-CDO-ALLDAYEVENT:FALSE
SUMMARY:Orange County Employment Fair
DESCRIPTION:Virtual Job Fair
X-ALT-DESC;FMTTYPE=text/html:Virtual Job Fair&nbsp\;
LOCATION:Zoom
UID:e.2030.5569
SEQUENCE:3
DTSTAMP:20260421T000947Z
URL:http://business.fvchamber.com/events/details/orange-county-employment-fair-5569
END:VEVENT

END:VCALENDAR
