BEGIN:VCALENDAR
VERSION:2.0
PRODID:-//ChamberMaster//Event Calendar 2.0//EN
METHOD:PUBLISH
X-PUBLISHED-TTL:P3D
REFRESH-INTERVAL:P3D
CALSCALE:GREGORIAN
BEGIN:VEVENT
DTSTART:20170908T000000Z
DTEND:20170908T030000Z
X-MICROSOFT-CDO-ALLDAYEVENT:FALSE
SUMMARY:Orange County Business Leaders Forum & Networking
DESCRIPTION:Orange County Business Leaders\n\nForum & Networking
X-ALT-DESC;FMTTYPE=text/html:<strong><span style="font-size:16px\;">Orange County Business Leaders</span><br />\n<span style="font-size:18px\;">Forum &amp\; Networking</span></strong>
LOCATION:Golden Sea Restaurant & Banquet 9802 W. Katella Anaheim\, CA 92804
UID:e.2030.4218
SEQUENCE:3
DTSTAMP:20260424T142123Z
URL:http://business.fvchamber.com/events/details/orange-county-business-leaders-forum-networking-4218
END:VEVENT

END:VCALENDAR
