BEGIN:VCALENDAR
VERSION:2.0
PRODID:-//ChamberMaster//Event Calendar 2.0//EN
METHOD:PUBLISH
X-PUBLISHED-TTL:P3D
REFRESH-INTERVAL:P3D
CALSCALE:GREGORIAN
BEGIN:VEVENT
DTSTART:20160413T230000Z
DTEND:20160414T010000Z
X-MICROSOFT-CDO-ALLDAYEVENT:FALSE
SUMMARY:Orange County Association of Realtors Ribbon Cutting
DESCRIPTION:Orange County Association of Realtors\n\nRibbon Cutting
X-ALT-DESC;FMTTYPE=text/html:<div><span style="font-size:16px\;"><strong>Orange County Association of Realtors</strong></span></div>\n\n<div><em><span style="font-size:16px\;"><strong>Ribbon Cutting</strong></span></em></div>\n\n<div>&nbsp\;</div>\n
LOCATION:Fountain Valley Office 10540 Talbert Avenue Suite 225 Fountain Valley
UID:e.2030.2795
SEQUENCE:3
DTSTAMP:20260425T155753Z
URL:http://business.fvchamber.com/events/details/orange-county-association-of-realtors-ribbon-cutting-04-13-2016-2795
END:VEVENT

END:VCALENDAR
