BEGIN:VCALENDAR
VERSION:2.0
PRODID:-//ChamberMaster//Event Calendar 2.0//EN
METHOD:PUBLISH
X-PUBLISHED-TTL:P3D
REFRESH-INTERVAL:P3D
CALSCALE:GREGORIAN
BEGIN:VEVENT
DTSTART:20210327T000000Z
DTEND:20210327T020000Z
X-MICROSOFT-CDO-ALLDAYEVENT:FALSE
SUMMARY:Orange Coast Beauty Supply
DESCRIPTION:Join the Fountain Valley Chamber @ the Grand Opening and Ribbon Cutting Ceremony for Orange Coast Beauty Supply.
X-ALT-DESC;FMTTYPE=text/html:Join the Fountain Valley Chamber @ the Grand Opening and Ribbon Cutting Ceremony for Orange Coast Beauty Supply.
LOCATION:10525 Ellis Ave. Fountain Valley\, CA 92708
UID:e.2030.5344
SEQUENCE:3
DTSTAMP:20260421T210215Z
URL:http://business.fvchamber.com/events/details/orange-coast-beauty-supply-5344
END:VEVENT

END:VCALENDAR
