BEGIN:VCALENDAR
VERSION:2.0
PRODID:-//ChamberMaster//Event Calendar 2.0//EN
METHOD:PUBLISH
X-PUBLISHED-TTL:P3D
REFRESH-INTERVAL:P3D
CALSCALE:GREGORIAN
BEGIN:VEVENT
DTSTART:20180315T003000Z
DTEND:20180315T023000Z
X-MICROSOFT-CDO-ALLDAYEVENT:FALSE
SUMMARY:Open House on PI Day!
DESCRIPTION:You are invited to join us!\n\nPrana Health Chiropractic\n\nBodhicitta Chiropractic & Family Wellness
X-ALT-DESC;FMTTYPE=text/html:<span style="font-size:14px\;"><em><strong>You are invited to join us!</strong></em></span><br />\n<span style="font-size:16px\;"><strong>Prana Health Chiropractic</strong></span><br />\n<span style="font-size:16px\;"><strong>Bodhicitta&nbsp\;Chiropractic &amp\; Family Wellness</strong></span><br />\n&nbsp\;
LOCATION:18377 Beach Blvd.\, Ste. 217 Huntington Beach\, CA 92648 (Huntington Pacifica Building)
UID:e.2030.4662
SEQUENCE:3
DTSTAMP:20260424T034721Z
URL:http://business.fvchamber.com/events/details/open-house-on-pi-day-4662
END:VEVENT

END:VCALENDAR
