BEGIN:VCALENDAR
VERSION:2.0
PRODID:-//ChamberMaster//Event Calendar 2.0//EN
METHOD:PUBLISH
X-PUBLISHED-TTL:P3D
REFRESH-INTERVAL:P3D
CALSCALE:GREGORIAN
BEGIN:VEVENT
DTSTART:20150911T003000Z
DTEND:20150911T020000Z
X-MICROSOFT-CDO-ALLDAYEVENT:FALSE
SUMMARY:Open House & New Member Orientation
DESCRIPTION:Open House & Member Orientation
X-ALT-DESC;FMTTYPE=text/html:<span style="font-size:16px\;"><span style="font-family: verdana\;"><strong>Open House &amp\; Member Orientation</strong></span></span>
LOCATION:Fountain Valley Chamber of Commerce 10055 Slater Ave.\, Ste. 250 Fountain Valley\, CA 92708
UID:e.2030.2156
SEQUENCE:3
DTSTAMP:20260426T030240Z
URL:http://business.fvchamber.com/events/details/open-house-new-member-orientation-09-10-2015-2156
END:VEVENT

END:VCALENDAR
