BEGIN:VCALENDAR
VERSION:2.0
PRODID:-//ChamberMaster//Event Calendar 2.0//EN
METHOD:PUBLISH
X-PUBLISHED-TTL:P3D
REFRESH-INTERVAL:P3D
CALSCALE:GREGORIAN
BEGIN:VEVENT
DTSTART:20181115T010000Z
DTEND:20181115T023000Z
X-MICROSOFT-CDO-ALLDAYEVENT:FALSE
SUMMARY:Open House & Member Orientation
DESCRIPTION:Open House & Member Orientation
X-ALT-DESC;FMTTYPE=text/html:<span style="font-size:18px\;"><strong>Open House &amp\; Member Orientation</strong></span>
LOCATION:Fountain Valley Chamber of Commerce 10055 Slater Ave.\, #250 Fountain Valley
UID:e.2030.4951
SEQUENCE:3
DTSTAMP:20260423T161135Z
URL:http://business.fvchamber.com/events/details/open-house-member-orientation-4951
END:VEVENT

END:VCALENDAR
