BEGIN:VCALENDAR
VERSION:2.0
PRODID:-//ChamberMaster//Event Calendar 2.0//EN
METHOD:PUBLISH
X-PUBLISHED-TTL:P3D
REFRESH-INTERVAL:P3D
CALSCALE:GREGORIAN
BEGIN:VEVENT
DTSTART:20180823T000000Z
DTEND:20180823T013000Z
X-MICROSOFT-CDO-ALLDAYEVENT:FALSE
SUMMARY:Open House / Member Orientation
DESCRIPTION:Open House / Member Orientation\n\nLearn the best way to effectively write a "Member to Member Discount"\n\nBring a guest and enter into a raffle for a free bottle of wine
X-ALT-DESC;FMTTYPE=text/html:<span style="font-size:18px\;"><strong>Open House / Member Orientation</strong></span><br />\n<span style="font-size: 14px\;"><em>Learn the best way to effectively write a &quot\;Member to Member Discount&quot\;</em><br />\nBring a guest and enter into a raffle for a free bottle of wine</span>
LOCATION:Fountain Valley Chamber Office 10055 Slater Ave.\, #250 Fountain Valley
UID:e.2030.4941
SEQUENCE:3
DTSTAMP:20260423T203554Z
URL:http://business.fvchamber.com/events/details/open-house-member-orientation-4941
END:VEVENT

END:VCALENDAR
