BEGIN:VCALENDAR
VERSION:2.0
PRODID:-//ChamberMaster//Event Calendar 2.0//EN
METHOD:PUBLISH
X-PUBLISHED-TTL:P3D
REFRESH-INTERVAL:P3D
CALSCALE:GREGORIAN
BEGIN:VEVENT
DTSTART:20180222T010000Z
DTEND:20180222T023000Z
X-MICROSOFT-CDO-ALLDAYEVENT:FALSE
SUMMARY:Open House & Member Orientation
DESCRIPTION:Open House & Member Orientation\n\nSponsored by FV Fit Body Boot Camp
X-ALT-DESC;FMTTYPE=text/html:<span style="font-size:16px\;"><strong>Open House &amp\; Member Orientation<br />\n<span style="font-size:14px\;"><em>Sponsored by FV Fit Body Boot Camp</em></span></strong></span>
LOCATION:Fountain Valley Chamber 10055 Slater Ave.\, #250 Fountain Valley
UID:e.2030.4242
SEQUENCE:3
DTSTAMP:20260424T051317Z
URL:http://business.fvchamber.com/events/details/open-house-member-orientation-4242
END:VEVENT

END:VCALENDAR
