BEGIN:VCALENDAR
VERSION:2.0
PRODID:-//ChamberMaster//Event Calendar 2.0//EN
METHOD:PUBLISH
X-PUBLISHED-TTL:P3D
REFRESH-INTERVAL:P3D
CALSCALE:GREGORIAN
BEGIN:VEVENT
DTSTART:20171019T000000Z
DTEND:20171019T013000Z
X-MICROSOFT-CDO-ALLDAYEVENT:FALSE
SUMMARY:Open House / Member Orientation
DESCRIPTION:Open House / Member Orientation\n\nFor new & existing members
X-ALT-DESC;FMTTYPE=text/html:<span style="font-size:16px\;"><strong>Open House / Member Orientation</strong></span><br />\n<em><strong><span style="font-size:14px\;">For new &amp\; existing members</span></strong></em>
LOCATION:Fountain Valley Chamber 10055 Slater Ave.\, #250 Fountain Valley
UID:e.2030.4226
SEQUENCE:3
DTSTAMP:20260424T125232Z
URL:http://business.fvchamber.com/events/details/open-house-member-orientation-4226
END:VEVENT

END:VCALENDAR
