BEGIN:VCALENDAR
VERSION:2.0
PRODID:-//ChamberMaster//Event Calendar 2.0//EN
METHOD:PUBLISH
X-PUBLISHED-TTL:P3D
REFRESH-INTERVAL:P3D
CALSCALE:GREGORIAN
BEGIN:VEVENT
DTSTART:20160617T003000Z
DTEND:20160617T020000Z
X-MICROSOFT-CDO-ALLDAYEVENT:FALSE
SUMMARY:Open House / Member Orientation
DESCRIPTION:Open House / Member Orientation\n\nHeld once a quarter\, these events provide an opportunity for new & existing members to learn about the many benefits the Chamber has to offer and how being a Chamber member can help grow their business. In addition\, these networking meetings enable new members to become acquainted with other new and existing members.
X-ALT-DESC;FMTTYPE=text/html:<span style="color:#0000FF\;"><span style="font-size: 16px\;"><strong>Open House / Member Orientation</strong></span></span><br />\n<span style="font-size:12px\;">Held once a quarter\, these events provide an opportunity for new &amp\; existing members to learn about the many benefits the Chamber has to offer and how being a Chamber member can help grow their business. In addition\, these networking meetings enable new members to become acquainted with other new and existing members.</span>
LOCATION:Fountain Valley Chamber Office 10055 Slater Avenue\, Ste. 250 Fountain Valley\, CA 92708
UID:e.2030.2326
SEQUENCE:3
DTSTAMP:20260425T141724Z
URL:http://business.fvchamber.com/events/details/open-house-member-orientation-06-16-2016-2326
END:VEVENT

END:VCALENDAR
