BEGIN:VCALENDAR
VERSION:2.0
PRODID:-//ChamberMaster//Event Calendar 2.0//EN
METHOD:PUBLISH
X-PUBLISHED-TTL:P3D
REFRESH-INTERVAL:P3D
CALSCALE:GREGORIAN
BEGIN:VEVENT
DTSTART:20160212T013000Z
DTEND:20160212T030000Z
X-MICROSOFT-CDO-ALLDAYEVENT:FALSE
SUMMARY:Open House / Member Orientation
DESCRIPTION:Thursday\, February 11\, 2016\n\n5:30pm to 7:00pm
X-ALT-DESC;FMTTYPE=text/html:Thursday\, February 11\, 2016<br />\n5:30pm to 7:00pm
LOCATION:Fountain Valley Chamber Office 10055 Slater Ave.\, Ste. 250 Fountain Valley
UID:e.2030.2311
SEQUENCE:3
DTSTAMP:20260425T185921Z
URL:http://business.fvchamber.com/events/details/open-house-member-orientation-02-11-2016-2311
END:VEVENT

END:VCALENDAR
