BEGIN:VCALENDAR
VERSION:2.0
PRODID:-//ChamberMaster//Event Calendar 2.0//EN
METHOD:PUBLISH
X-PUBLISHED-TTL:P3D
REFRESH-INTERVAL:P3D
CALSCALE:GREGORIAN
BEGIN:VEVENT
DTSTART:20211020T223000Z
DTEND:20211021T003000Z
X-MICROSOFT-CDO-ALLDAYEVENT:FALSE
SUMMARY:Oktoberfest at Oakmont
DESCRIPTION:Join Oakmont of Huntington Beach for their Oktoberfest! Enjoy themed hor d' oeuvres and beverages prepared by their exceptional culinary team! Mix and mingle with other professionals while you learn more about their 5-star amenities
X-ALT-DESC;FMTTYPE=text/html:<span style="color:#FF8C00\;"><span style="font-size:22px\;"><span style="font-family:verdana\;"><strong>Join Oakmont of Huntington Beach for their Oktoberfest! Enjoy themed hor d&#39\; oeuvres and beverages prepared by their exceptional culinary team! Mix and mingle with other professionals while you learn more about their 5-star amenities</strong></span></span></span>
LOCATION:Oakmont of Huntington Beach 18922 Delaware St.\, Huntington Beach\, CA 92468
UID:e.2030.5401
SEQUENCE:3
DTSTAMP:20260421T065513Z
URL:http://business.fvchamber.com/events/details/oktoberfest-at-oakmont-5401
END:VEVENT

END:VCALENDAR
