BEGIN:VCALENDAR
VERSION:2.0
PRODID:-//ChamberMaster//Event Calendar 2.0//EN
METHOD:PUBLISH
X-PUBLISHED-TTL:P3D
REFRESH-INTERVAL:P3D
CALSCALE:GREGORIAN
BEGIN:VEVENT
DTSTART;VALUE=DATE:20190328
DTEND;VALUE=DATE:20190329
TRANSP:TRANSPARENT
X-MICROSOFT-CDO-ALLDAYEVENT:TRUE
SUMMARY:OC's Largest Mixer 2019
DESCRIPTION:"Be Part of Something Big!"\n\nOrange County's Largest Mixer 2019\n\n - 100+ Local Businesses Exhibiting\n\n - 15+ Chambers of Commerce & Professional Business Organizations\n\n - Speed Networking & Networking Mixers w/ 1\,000+ Local Professionals.
X-ALT-DESC;FMTTYPE=text/html:<strong><em><span style="font-family:comic sans ms\;"><span style="font-size:16px\;"><span style="color:#0000CD\;">&quot\;Be Part of Something Big!&quot\;</span></span></span></em></strong><br />\n<span style="font-family:comic sans ms\;"><span style="font-size:16px\;"><span style="color:#FF8C00\;"><strong>Orange County&#39\;s Largest Mixer 2019</strong></span><br />\n<span style="font-family:arial\;"><span style="font-size:14px\;">&nbsp\;- 100+ Local Businesses Exhibiting<br />\n&nbsp\;- 15+ Chambers of Commerce &amp\; Professional Business Organizations</span></span></span></span><br />\n<span style="color: rgb(51\, 51\, 51)\; font-family: arial\; font-size: 14px\; background-color: rgb(255\, 255\, 255)\;">&nbsp\;- Speed Networking &amp\; Networking Mixers w/ 1\,000+ Local Professionals.</span><br />\n<br />\n&nbsp\;
LOCATION:Orange County Fair & Events Center Costa Mesa\, CA
UID:e.2030.5102
SEQUENCE:3
DTSTAMP:20260423T103453Z
URL:http://business.fvchamber.com/events/details/oc-s-largest-mixer-2019-5102
END:VEVENT

END:VCALENDAR
