BEGIN:VCALENDAR
VERSION:2.0
PRODID:-//ChamberMaster//Event Calendar 2.0//EN
METHOD:PUBLISH
X-PUBLISHED-TTL:P3D
REFRESH-INTERVAL:P3D
CALSCALE:GREGORIAN
BEGIN:VEVENT
DTSTART:20160317T000000Z
DTEND:20160317T040000Z
X-MICROSOFT-CDO-ALLDAYEVENT:FALSE
SUMMARY:OC Largest Mixer
DESCRIPTION:OC Largest Mixer
X-ALT-DESC;FMTTYPE=text/html:<span style="font-size:16px\;"><strong>OC Largest Mixer</strong></span>
LOCATION:Orange County Fairgrounds 88 Fair Drive Costa Mesa\, CA 92626
UID:e.2030.2313
SEQUENCE:3
DTSTAMP:20260425T172331Z
URL:http://business.fvchamber.com/events/details/oc-largest-mixer-03-16-2016-2313
END:VEVENT

END:VCALENDAR
