BEGIN:VCALENDAR
VERSION:2.0
PRODID:-//ChamberMaster//Event Calendar 2.0//EN
METHOD:PUBLISH
X-PUBLISHED-TTL:P3D
REFRESH-INTERVAL:P3D
CALSCALE:GREGORIAN
BEGIN:VEVENT
DTSTART:20180724T200000Z
DTEND:20180724T210000Z
X-MICROSOFT-CDO-ALLDAYEVENT:FALSE
SUMMARY:Northern Italy Travel Trip Presentation
DESCRIPTION:Northern Italy & the Beautiful Italian Lakes\n\nChamber Trip Presentation\n\nDeparts April 1\, 2019
X-ALT-DESC;FMTTYPE=text/html:<span style="font-size:18px\;"><strong>Northern Italy &amp\; the Beautiful Italian Lakes</strong></span><br />\n<span style="font-size:14px\;"><em><strong>Chamber Trip Presentation</strong></em></span><br />\n<span style="font-size:12px\;"><em>Departs April 1\, 2019</em></span>
LOCATION:The Center at Founder's Village 17967 Bushard Street Fountain Valley
UID:e.2030.4811
SEQUENCE:3
DTSTAMP:20260423T221329Z
URL:http://business.fvchamber.com/events/details/northern-italy-travel-trip-presentation-4811
END:VEVENT

END:VCALENDAR
