BEGIN:VCALENDAR
VERSION:2.0
PRODID:-//ChamberMaster//Event Calendar 2.0//EN
METHOD:PUBLISH
X-PUBLISHED-TTL:P3D
REFRESH-INTERVAL:P3D
CALSCALE:GREGORIAN
BEGIN:VEVENT
DTSTART:20171001T010000Z
DTEND:20171001T040000Z
X-MICROSOFT-CDO-ALLDAYEVENT:FALSE
SUMMARY:Night Under the Stars
DESCRIPTION:Hyundai 2-Day Event\n\nNight Under the Stars\n\nFun-filled Community Program\n\nSupport Fountain Valley Schools Literacy Program
X-ALT-DESC;FMTTYPE=text/html:<strong><span style="font-size:18px\;">Hyundai 2-Day Event</span><br />\n<span style="font-size:16px\;">Night Under the Stars</span></strong><br />\n<span style="font-size:14px\;"><strong><em>Fun-filled Community Program</em></strong><br />\n<em><strong>Support Fountain Valley Schools Literacy Program</strong></em></span>
LOCATION:Fountain Valley Sports Park Brookhurst & Heil
UID:e.2030.4214
SEQUENCE:3
DTSTAMP:20260424T142145Z
URL:http://business.fvchamber.com/events/details/night-under-the-stars-4214
END:VEVENT

END:VCALENDAR
