BEGIN:VCALENDAR
VERSION:2.0
PRODID:-//ChamberMaster//Event Calendar 2.0//EN
METHOD:PUBLISH
X-PUBLISHED-TTL:P3D
REFRESH-INTERVAL:P3D
CALSCALE:GREGORIAN
BEGIN:VEVENT
DTSTART:20151112T193000Z
DTEND:20151112T223000Z
X-MICROSOFT-CDO-ALLDAYEVENT:FALSE
SUMMARY:Newhope Imaging Open House / Ribbon Cutting
DESCRIPTION:Open House / Ribbon Cutting
X-ALT-DESC;FMTTYPE=text/html:<span style="font-size:14px\;"><span style="font-family: verdana\;"><strong>Open House / Ribbon Cutting</strong></span></span>
LOCATION:11190 Warner Ave.\, #110 Fountain Valley\, CA 92708
UID:e.2030.2171
SEQUENCE:3
DTSTAMP:20260426T012035Z
URL:http://business.fvchamber.com/events/details/newhope-imaging-open-house-ribbon-cutting-11-12-2015-2171
END:VEVENT

END:VCALENDAR
