BEGIN:VCALENDAR
VERSION:2.0
PRODID:-//ChamberMaster//Event Calendar 2.0//EN
METHOD:PUBLISH
X-PUBLISHED-TTL:P3D
REFRESH-INTERVAL:P3D
CALSCALE:GREGORIAN
BEGIN:VEVENT
DTSTART;VALUE=DATE:20210915
DTEND;VALUE=DATE:20210916
TRANSP:TRANSPARENT
X-MICROSOFT-CDO-ALLDAYEVENT:TRUE
SUMMARY:New Beginnings: Managing Employment Change
DESCRIPTION:The US Department of Veteran Affairs\, in partnership with Prudential Financial\, offers courses to transitioning service members\, veterans\, spouses\, family members\, and caregivers through the Wellness Wednesday Financial Education Series. This class will discuss :\n\n	Which benefits go with you\n	Unemployment compensation and managing cash flow\n	Maintaining financial wellness during the transition\n	and more...
X-ALT-DESC;FMTTYPE=text/html:<span style="font-size:18px\;"><span style="font-family:verdana\;"><strong>The US Department of Veteran Affairs\, in partnership with Prudential Financial\, offers courses to transitioning service members\, veterans\, spouses\, family members\, and caregivers through the Wellness Wednesday Financial Education Series. This class will discuss :</strong></span></span>\n<ul>\n	<li><span style="font-size:18px\;"><span style="font-family:verdana\;"><strong>Which benefits go with you</strong></span></span></li>\n	<li><span style="font-size:18px\;"><span style="font-family:verdana\;"><strong>Unemployment compensation and managing cash flow</strong></span></span></li>\n	<li><span style="font-size:18px\;"><span style="font-family:verdana\;"><strong>Maintaining financial wellness during the transition</strong></span></span></li>\n	<li><span style="font-size:18px\;"><span style="font-family:verdana\;"><strong>and more...</strong></span></span></li>\n</ul>\n
LOCATION:On Zoom
UID:e.2030.5367
SEQUENCE:3
DTSTAMP:20260421T083759Z
URL:http://business.fvchamber.com/events/details/new-beginnings-managing-employment-change-5367
END:VEVENT

END:VCALENDAR
