BEGIN:VCALENDAR
VERSION:2.0
PRODID:-//ChamberMaster//Event Calendar 2.0//EN
METHOD:PUBLISH
X-PUBLISHED-TTL:P3D
REFRESH-INTERVAL:P3D
CALSCALE:GREGORIAN
BEGIN:VEVENT
DTSTART:20210709T000000Z
DTEND:20210709T020000Z
X-MICROSOFT-CDO-ALLDAYEVENT:FALSE
SUMMARY:Network @ Night
DESCRIPTION:Join us for a fun & relaxing reprieve while connecting & networking with your local business community! There will be Drink Specials and Free Drawings
X-ALT-DESC;FMTTYPE=text/html:<span style="color:#FF8C00\;"><span style="font-size:26px\;"><span style="font-family:verdana\;"><strong>Join us for a fun &amp\; relaxing reprieve while connecting &amp\; networking with your local business community! <u>There will be Drink Specials and Free Drawings</u></strong></span></span></span>
LOCATION:Islands 18621 Brookhurst St. Fountain Valley\, CA 92708
UID:e.2030.5360
SEQUENCE:3
DTSTAMP:20260421T140119Z
URL:http://business.fvchamber.com/events/details/network-night-5360
END:VEVENT

END:VCALENDAR
