BEGIN:VCALENDAR
VERSION:2.0
PRODID:-//ChamberMaster//Event Calendar 2.0//EN
METHOD:PUBLISH
X-PUBLISHED-TTL:P3D
REFRESH-INTERVAL:P3D
CALSCALE:GREGORIAN
BEGIN:VEVENT
DTSTART:20231110T010000Z
DTEND:20231110T030000Z
X-MICROSOFT-CDO-ALLDAYEVENT:FALSE
SUMMARY:Network at Night
DESCRIPTION:Join us for a night of networking with local business owners
X-ALT-DESC;FMTTYPE=text/html:<span style="font-size:24px\;"><span style="color:#000080\;"><span style="font-family:tahoma\;"><strong>Join us for a night of networking with local business owners</strong></span></span></span>
LOCATION:Spoons Grill & Bar Inside the Ayres Hotel 17550 Brookhurst St.\, Fountain Valley\, CA 92708
UID:e.2030.6051
SEQUENCE:3
DTSTAMP:20260419T125259Z
URL:http://business.fvchamber.com/events/details/network-at-night-11-09-2023-6051
END:VEVENT

END:VCALENDAR
