BEGIN:VCALENDAR
VERSION:2.0
PRODID:-//ChamberMaster//Event Calendar 2.0//EN
METHOD:PUBLISH
X-PUBLISHED-TTL:P3D
REFRESH-INTERVAL:P3D
CALSCALE:GREGORIAN
BEGIN:VEVENT
DTSTART:20150805T010000Z
DTEND:20150805T030000Z
X-MICROSOFT-CDO-ALLDAYEVENT:FALSE
SUMMARY:National Night Out
DESCRIPTION:Police Department present... "National Night Out" - Movie in the Park\n\nMovie: "Kung Fu Panda"\n\n\n\nNational night out is a community-police awareness-raising event held the first Tuesday of August. This event is designed to increase awareness about police programs in the community.\n\n\n\nTraditionally\, the night features displays from the Fountain Valley Police Department\, West Count SWAT\, K9 demonstration\, the Fountain Valley Fire Department and fire truck\, Neighborhood Watch\, children's fingerprinting\, Orange County Volunteer Clowns\, games and more. \n\n\n\nNational Night Out festivities start at 6:00pm to dusk. \n\n\n\nBring a blanket and comfortable chairs and enjoy the warn summer evening watching a movie the whole family can enjoy!\n\n\n\nWeekly Costume Contest\n\nKid's can dress up as their favorite character from each movie in the Movies in the Park series and the winner will receive a free bicycle donation by Mimi's Jewelry.
X-ALT-DESC;FMTTYPE=text/html:<p><br />\n<span style="color:#000080\;"><span style="font-size:18px\;"><strong>Police Department present... &quot\;National Night Out&quot\; - Movie in the Park</strong></span></span><br />\nMovie: &quot\;Kung Fu Panda&quot\;<br />\n<br />\nNational night out is a community-police awareness-raising event held the first Tuesday of August. This event is designed to increase awareness about police programs in the community.<br />\n<br />\nTraditionally\, the night features displays from the Fountain Valley Police Department\, West Count SWAT\, K9 demonstration\, the Fountain Valley Fire Department and fire truck\, Neighborhood Watch\, children&#39\;s fingerprinting\, Orange County Volunteer Clowns\, games and more.&nbsp\;<br />\n<br />\n<span style="line-height: 20.7999992370605px\;">National Night Out&nbsp\;</span><span style="line-height: 20.7999992370605px\;">festivities start at 6:</span>00pm<span style="line-height: 20.7999992370605px\;"> to dusk.&nbsp\;</span><br />\n<br />\nBring a blanket and comfortable chairs and enjoy the warn summer evening watching a movie the whole family can enjoy!<br />\n<br />\n<span style="font-size:16px\;"><span style="color:#000080\;"><u><strong>Weekly Costume Contest</strong></u></span></span><br />\nKid&#39\;s can dress up as their favorite character from each movie in the <em>Movies in the Park</em> series and the winner will receive a free bicycle donation by Mimi&#39\;s Jewelry.&nbsp\;<br />\n&nbsp\;</p>\n
LOCATION:Fountain Valley Sports Park 16400 Brookhurst Street Fountain Valley\, CA 92708
UID:e.2030.2149
SEQUENCE:3
DTSTAMP:20260426T041452Z
URL:http://business.fvchamber.com/events/details/national-night-out-08-04-2015-2149
END:VEVENT

END:VCALENDAR
