BEGIN:VCALENDAR
VERSION:2.0
PRODID:-//ChamberMaster//Event Calendar 2.0//EN
METHOD:PUBLISH
X-PUBLISHED-TTL:P3D
REFRESH-INTERVAL:P3D
CALSCALE:GREGORIAN
BEGIN:VEVENT
DTSTART:20170928T000000Z
DTEND:20170928T023000Z
X-MICROSOFT-CDO-ALLDAYEVENT:FALSE
SUMMARY:Multi-Chambers Business Expo & Mixer
DESCRIPTION:Multi-Chambers Business Expo & Mixer
X-ALT-DESC;FMTTYPE=text/html:<strong><span style="font-size:16px\;">Multi-Chambers Business Expo &amp\; Mixer</span></strong>
LOCATION:Fountain Valley Recreation Center 16400 Brookhurst Street Fountain Valley
UID:e.2030.4201
SEQUENCE:3
DTSTAMP:20260424T142144Z
URL:http://business.fvchamber.com/events/details/multi-chambers-business-expo-mixer-4201
END:VEVENT

END:VCALENDAR
