BEGIN:VCALENDAR
VERSION:2.0
PRODID:-//ChamberMaster//Event Calendar 2.0//EN
METHOD:PUBLISH
X-PUBLISHED-TTL:P3D
REFRESH-INTERVAL:P3D
CALSCALE:GREGORIAN
BEGIN:VEVENT
DTSTART:20230210T010000Z
DTEND:20230210T030000Z
X-MICROSOFT-CDO-ALLDAYEVENT:FALSE
SUMMARY:Mrs. Katherine Vargas Notary & Networking Ribbon Cutting/ Network at Night
DESCRIPTION:Join us & Mrs. Katherine Vargas Notary and Networking for her Ribbon Cutting on February 9th at Ozzies Sports Bar!! Bring a friend for Networking and getting to know Katherine!
X-ALT-DESC;FMTTYPE=text/html:<span style="font-size:26px\;"><span style="color: rgb(255\, 255\, 255)\; font-family: &quot\;Century Gothic&quot\;\, Calibri\, Helvetica\, Arial\, sans-serif\; font-style: italic\; font-weight: 700\; white-space: pre-wrap\; background-color: rgb(41\, 75\, 147)\;">Join us &amp\; Mrs. Katherine Vargas Notary and Networking for her Ribbon Cutting on February 9th at Ozzies Sports Bar!! Bring a friend for Networking and getting to know Katherine! </span></span>
LOCATION:Ozzie's Bar 17110 Brookhurst St.\, Fountain Valley\, CA 92708
UID:e.2030.5877
SEQUENCE:3
DTSTAMP:20260420T033415Z
URL:http://business.fvchamber.com/events/details/mrs-katherine-vargas-notary-networking-ribbon-cutting-network-at-night-5877
END:VEVENT

END:VCALENDAR
