BEGIN:VCALENDAR
VERSION:2.0
PRODID:-//ChamberMaster//Event Calendar 2.0//EN
METHOD:PUBLISH
X-PUBLISHED-TTL:P3D
REFRESH-INTERVAL:P3D
CALSCALE:GREGORIAN
BEGIN:VEVENT
DTSTART:20150822T000000Z
DTEND:20150822T033000Z
X-MICROSOFT-CDO-ALLDAYEVENT:FALSE
SUMMARY:Movie in the Park
DESCRIPTION:City of Fountain Valley presents Movie in the Park\n\n\n\nFriday\, August 14th @ 6pm\n\n"How to Train Your Dragon"\n\nGreen Valley Park\n\n17250 Los Jardines West\n\nFountain Valley\, CA 92708\n\n\n\nFriday\, August 21st @ 6pm\n\nDisney's "Up"\n\nVista View Park\n\n9235 Honeysuckle Avenue\n\nFountain Valley\, CA 92708\n\n\n\nFriday\, August 28th @ 6pm\n\nDisney's "Frozen"\n\nHarper Park\n\n8675 Bluebird Avenue\n\nFountain Valley\, CA 92708\n\n\n\nWeekly Costume Contest\n\nKid's can dress up as their favorite character from each movie in the Movies in the Park series and the winner will receive a free bicycle donation by Mimi's Jewelry.
X-ALT-DESC;FMTTYPE=text/html:<br />\n<span style="font-size:16px\;"><strong>City of Fountain Valley presents Movie in the Park</strong></span><br />\n<br />\n<strong>Friday\, August 14th @ 6pm<br />\n&quot\;How to Train Your Dragon&quot\;</strong><br />\nGreen Valley Park<br />\n17250 Los Jardines West<br />\nFountain Valley\, CA 92708<br />\n<br />\n<strong>Friday\, August 21st @ 6pm<br />\nDisney&#39\;s &quot\;Up&quot\;</strong><br />\nVista View Park<br />\n9235 Honeysuckle Avenue<br />\nFountain Valley\, CA 92708<br />\n<br />\n<strong>Friday\, August 28th&nbsp\;@ 6pm<br />\nDisney&#39\;s &quot\;Frozen&quot\;</strong><br />\nHarper Park<br />\n8675 Bluebird Avenue<br />\nFountain Valley\, CA 92708<br />\n<br />\n<span style="font-size: 16px\;"><span style="color: rgb(0\, 0\, 128)\;"><u><strong>Weekly Costume Contest</strong></u></span></span><br style="line-height: 20.7999992370605px\;" />\n<span style="line-height: 20.7999992370605px\;">Kid&#39\;s can dress up as&nbsp\;</span><span style="line-height: 20.7999992370605px\;">their</span><span style="line-height: 20.7999992370605px\;">&nbsp\;favorite character from each movie in the&nbsp\;</span><em style="line-height: 20.7999992370605px\;">Movies in the Park</em><span style="line-height: 20.7999992370605px\;">&nbsp\;series and the winner will receive a free bicycle donation by Mimi&#39\;s Jewelry.&nbsp\;</span>
LOCATION:
UID:e.2030.1950
SEQUENCE:3
DTSTAMP:20260426T041841Z
URL:http://business.fvchamber.com/events/details/movie-in-the-park-08-21-2015-1950
END:VEVENT

END:VCALENDAR
