BEGIN:VCALENDAR
VERSION:2.0
PRODID:-//ChamberMaster//Event Calendar 2.0//EN
METHOD:PUBLISH
X-PUBLISHED-TTL:P3D
REFRESH-INTERVAL:P3D
CALSCALE:GREGORIAN
BEGIN:VEVENT
DTSTART:20230612T010000Z
DTEND:20230612T030000Z
X-MICROSOFT-CDO-ALLDAYEVENT:FALSE
SUMMARY:Moi Cuisines Grand Opening & Ribbon Cutting
DESCRIPTION:Join us in welcoming Moi Cuisines and Iron Chef\, Michael Bao Huynh to Fountain Valley.  Celebrate their Grand Opening & Ribbon Cutting with us - ALL ARE WELCOME!
X-ALT-DESC;FMTTYPE=text/html:<strong><span style="color:#B22222\;"><span style="font-size:18px\;">Join us in welcoming Moi Cuisines and Iron Chef\, Michael Bao Huynh to Fountain Valley.&nbsp\; Celebrate their Grand Opening &amp\; Ribbon Cutting with us - ALL ARE WELCOME!&nbsp\;</span></span></strong>&nbsp\;&nbsp\;&nbsp\;
LOCATION:Moi Cuisines 10830 Warner Ave.\, F.V.\, Ca 92708
UID:e.2030.6182
SEQUENCE:3
DTSTAMP:20260419T210829Z
URL:http://business.fvchamber.com/events/details/moi-cuisines-grand-opening-ribbon-cutting-6182
END:VEVENT

END:VCALENDAR
