BEGIN:VCALENDAR
VERSION:2.0
PRODID:-//ChamberMaster//Event Calendar 2.0//EN
METHOD:PUBLISH
X-PUBLISHED-TTL:P3D
REFRESH-INTERVAL:P3D
CALSCALE:GREGORIAN
BEGIN:VEVENT
DTSTART:20160218T013000Z
DTEND:20160218T033000Z
X-MICROSOFT-CDO-ALLDAYEVENT:FALSE
SUMMARY:Mobul - The Home Mobility Store Mixer
DESCRIPTION:Mobul - The Home Mobililty Store\n\nMixer
X-ALT-DESC;FMTTYPE=text/html:<span style="font-size:18px\;"><strong>Mobul - The Home Mobililty Store<br />\n<em>Mixer</em></strong></span>
LOCATION:18309 Brookhurst Street Fountain Valley
UID:e.2030.2365
SEQUENCE:3
DTSTAMP:20260425T185759Z
URL:http://business.fvchamber.com/events/details/mobul-the-home-mobility-store-mixer-02-17-2016-2365
END:VEVENT

END:VCALENDAR
