BEGIN:VCALENDAR
VERSION:2.0
PRODID:-//ChamberMaster//Event Calendar 2.0//EN
METHOD:PUBLISH
X-PUBLISHED-TTL:P3D
REFRESH-INTERVAL:P3D
CALSCALE:GREGORIAN
BEGIN:VEVENT
DTSTART;VALUE=DATE:20170812
DTEND;VALUE=DATE:20170813
TRANSP:TRANSPARENT
X-MICROSOFT-CDO-ALLDAYEVENT:TRUE
SUMMARY:Mob & Mingle at Local Eateries
DESCRIPTION:Mob & Mingle at Local Eateries
X-ALT-DESC;FMTTYPE=text/html:<span style="font-size:18px\;"><strong>Mob &amp\; Mingle at Local Eateries</strong></span>
LOCATION:Dickey's Barbecue Pit 18120-20 Brookhurst Street (at Talbert) Fountain Valley
UID:e.2030.4208
SEQUENCE:3
DTSTAMP:20260424T154745Z
URL:http://business.fvchamber.com/events/details/mob-mingle-at-local-eateries-4208
END:VEVENT

END:VCALENDAR
