BEGIN:VCALENDAR
VERSION:2.0
PRODID:-//ChamberMaster//Event Calendar 2.0//EN
METHOD:PUBLISH
X-PUBLISHED-TTL:P3D
REFRESH-INTERVAL:P3D
CALSCALE:GREGORIAN
BEGIN:VEVENT
DTSTART:20210514T180000Z
DTEND:20210515T040000Z
X-MICROSOFT-CDO-ALLDAYEVENT:FALSE
SUMMARY:Miss Fountain Valley Scholarship Program Dine to Donate Fundraiser at Pizza D'Z Italian Restaurant in Fountain Valley
DESCRIPTION:Dine to Donate Miss Fountain Valley Fundraiser on Friday\, May 14th\, 2021 from 11 am to  9 pm. Mention "Miss Fountain Valley Fundraiser" when you check out and the Miss Fountain Valley Scholarship Program gets 20% back!. Enjoy delicious Italian food at family friendly prices! Come by & meet Miss Fountain Valley in the evening. We will also have some fun Opportunity Baskets to raffle off!\n\n\nYour supports helps the organization provide scholarships for the young women who participate in Miss Fountain Valley 2022 Scholarship Competition this Winter! We are a preliminary for the Miss America Organization.
X-ALT-DESC;FMTTYPE=text/html:<div style="background: rgb(238\, 238\, 238)\; border: 1px solid rgb(204\, 204\, 204)\; padding: 5px 10px\; text-align: center\;"><span style="font-size:14px"><span style="font-family:arial\,helvetica\,sans-serif"><span class="marker"><span style="color:#800080"><strong>Dine to Donate Miss Fountain Valley Fundraiser on Friday\, May 14th\, 2021 from 11 am to&nbsp\; 9 pm</strong></span></span>. Mention &quot\;Miss Fountain Valley Fundraiser&quot\; when you check out and the Miss Fountain Valley Scholarship Program gets 20% back!. Enjoy delicious Italian food at family friendly prices! Come by &amp\; meet Miss Fountain Valley in the evening.&nbsp\;We will also have some fun Opportunity Baskets to raffle off!</span></span></div>\n<br />\n<span style="font-size:14px"><span style="font-family:arial\,helvetica\,sans-serif">Your supports helps the organization provide scholarships for the young women who participate in Miss Fountain Valley 2022 Scholarship Competition this Winter! We are a preliminary for the Miss America Organization.</span></span>
LOCATION:Pizza D'Z Italian Restaurant (formerly Pizza D'Oro) 10585 Slater Ave. (near Ward St.)\, Fountain Valley CA
UID:e.2030.5349
SEQUENCE:3
DTSTAMP:20260421T175200Z
URL:http://business.fvchamber.com/events/details/miss-fountain-valley-scholarship-program-dine-to-donate-fundraiser-at-pizza-d-z-italian-restaurant-in-fountain-valley-5349
END:VEVENT

END:VCALENDAR
