BEGIN:VCALENDAR
VERSION:2.0
PRODID:-//ChamberMaster//Event Calendar 2.0//EN
METHOD:PUBLISH
X-PUBLISHED-TTL:P3D
REFRESH-INTERVAL:P3D
CALSCALE:GREGORIAN
BEGIN:VEVENT
DTSTART:20170210T010000Z
DTEND:20170210T050000Z
X-MICROSOFT-CDO-ALLDAYEVENT:FALSE
SUMMARY:Miss Fountain Valley Scholarship Pageant Fundraiser
DESCRIPTION:Miss Fountain Valley Scholarship Pageant Fundraiser\n\n\n\n-Opportunity Drawing Prizes\n\n-Purchase food and help raise money for the Scholarship Pageant
X-ALT-DESC;FMTTYPE=text/html:<span style="font-size:16px\;"><strong>Miss Fountain Valley Scholarship Pageant Fundraiser</strong></span><br />\n<br />\n-Opportunity Drawing Prizes<br />\n-Purchase food and help raise money for the Scholarship Pageant
LOCATION:Lamppost Pizza 10130 Warner Avenue Fountain Valley
UID:e.2030.3854
SEQUENCE:3
DTSTAMP:20260425T005941Z
URL:http://business.fvchamber.com/events/details/miss-fountain-valley-scholarship-pageant-fundraiser-3854
END:VEVENT

END:VCALENDAR
