BEGIN:VCALENDAR
VERSION:2.0
PRODID:-//ChamberMaster//Event Calendar 2.0//EN
METHOD:PUBLISH
X-PUBLISHED-TTL:P3D
REFRESH-INTERVAL:P3D
CALSCALE:GREGORIAN
BEGIN:VEVENT
DTSTART:20181111T023000Z
DTEND:20181111T060000Z
X-MICROSOFT-CDO-ALLDAYEVENT:FALSE
SUMMARY:Miss Fountain Valley Pageant Competition
DESCRIPTION:Miss Fountain Valley Pageant
X-ALT-DESC;FMTTYPE=text/html:<span style="font-size:16px\;"><strong>Miss Fountain Valley Pageant</strong></span>
LOCATION:Saigon Performing Arts Center 16149 Brookhurst St. Fountain Valley
UID:e.2030.4376
SEQUENCE:3
DTSTAMP:20260423T161432Z
URL:http://business.fvchamber.com/events/details/miss-fountain-valley-pageant-competition-4376
END:VEVENT

END:VCALENDAR
