BEGIN:VCALENDAR
VERSION:2.0
PRODID:-//ChamberMaster//Event Calendar 2.0//EN
METHOD:PUBLISH
X-PUBLISHED-TTL:P3D
REFRESH-INTERVAL:P3D
CALSCALE:GREGORIAN
BEGIN:VEVENT
DTSTART:20211204T010000Z
DTEND:20211204T020000Z
X-MICROSOFT-CDO-ALLDAYEVENT:FALSE
SUMMARY:Mimi's Jewelry Mixer
DESCRIPTION:Join Mimi's Jewelry for a night of fun and take 20-40% off on In-Stock Jewelry!\n\nFood Catered By: The Recess Room
X-ALT-DESC;FMTTYPE=text/html:<span style="font-size:22px\;"><span style="font-family:verdana\;"><span style="color:#008080\;"><strong>Join Mimi&#39\;s Jewelry for a night of fun and take 20-40% off on In-Stock Jewelry!<br />\nFood Catered By: The Recess Room</strong></span></span></span>
LOCATION:18591 Brookhurst St. Fountain Valley\, CA 92708
UID:e.2030.5406
SEQUENCE:3
DTSTAMP:20260421T032931Z
URL:http://business.fvchamber.com/events/details/mimi-s-jewelry-mixer-5406
END:VEVENT

END:VCALENDAR
