BEGIN:VCALENDAR
VERSION:2.0
PRODID:-//ChamberMaster//Event Calendar 2.0//EN
METHOD:PUBLISH
X-PUBLISHED-TTL:P3D
REFRESH-INTERVAL:P3D
CALSCALE:GREGORIAN
BEGIN:VEVENT
DTSTART:20191107T010000Z
DTEND:20191107T030000Z
X-MICROSOFT-CDO-ALLDAYEVENT:FALSE
SUMMARY:Mimi's Jewelry Mixer
DESCRIPTION:Join The Fountain Valley Chamber of Commerce as we enjoy a night at Mimi's Jewelry's After Hours Mixer. Enjoy the conversations\, connections\, and camaraderie.\n\n\n\nJoin us for a night of fun & take 20-40% off in-stock jewelry!
X-ALT-DESC;FMTTYPE=text/html:<span style="box-sizing: content-box\; font-weight: bolder\; bottom: auto\; clear: none\; color: rgb(68\, 68\, 68)\; content: normal\; direction: inherit\; empty-cells: show\; font-variant-numeric: inherit\; font-variant-east-asian: inherit\; font-stretch: inherit\; font-size: 16px\; font-family: verdana\; left: auto\; line-height: inherit\; margin: 0px\; max-height: none\; max-width: none\; min-height: initial\; min-width: initial\; opacity: 1\; outline-offset: 0px\; overflow: visible\; padding: 0px\; position: static\; resize: none\; right: auto\; table-layout: auto\; text-overflow: clip\; top: auto\; vertical-align: baseline\; visibility: inherit\; word-break: inherit\; overflow-wrap: inherit\; z-index: auto\; background: none rgb(255\, 255\, 255)\; border: none\; border-collapse: separate\; border-radius: 0px\; height: auto\; width: auto\; box-shadow: none\;">Join The Fountain Valley Chamber of Commerce as we enjoy a night at Mimi&#39\;s Jewelry&#39\;s After Hours Mixer. Enjoy the conversations\, connections\, and camaraderie.<br />\n<br />\nJoin us for a night of fun &amp\; take 20-40% off in-stock jewelry!</span>
LOCATION:Mimi's Jewelry 18591 Brookhurst St. Fountain Valley\, CA 92708 (Located in Callens Corner)
UID:e.2030.5276
SEQUENCE:3
DTSTAMP:20260422T221832Z
URL:http://business.fvchamber.com/events/details/mimi-s-jewelry-mixer-5276
END:VEVENT

END:VCALENDAR
