BEGIN:VCALENDAR
VERSION:2.0
PRODID:-//ChamberMaster//Event Calendar 2.0//EN
METHOD:PUBLISH
X-PUBLISHED-TTL:P3D
REFRESH-INTERVAL:P3D
CALSCALE:GREGORIAN
BEGIN:VEVENT
DTSTART:20151205T220000Z
DTEND:20151206T010000Z
X-MICROSOFT-CDO-ALLDAYEVENT:FALSE
SUMMARY:Mimi's Jewelry Grand Re-Opening
DESCRIPTION:Mimi's Jewlery Grand Re-Opening\n\n2-Day Event
X-ALT-DESC;FMTTYPE=text/html:<strong><span style="font-size:18px\;">Mimi&#39\;s Jewlery Grand Re-Opening</span></strong><br />\n<em><span style="font-size:18px\;"><strong>2-Day Event</strong></span></em>
LOCATION:18591 Brookhurst Street Fountain Valley
UID:e.2030.2361
SEQUENCE:3
DTSTAMP:20260425T222230Z
URL:http://business.fvchamber.com/events/details/mimi-s-jewelry-grand-re-opening-12-05-2015-2361
END:VEVENT

END:VCALENDAR
