BEGIN:VCALENDAR
VERSION:2.0
PRODID:-//ChamberMaster//Event Calendar 2.0//EN
METHOD:PUBLISH
X-PUBLISHED-TTL:P3D
REFRESH-INTERVAL:P3D
CALSCALE:GREGORIAN
BEGIN:VEVENT
DTSTART:20151204T230000Z
DTEND:20151205T030000Z
X-MICROSOFT-CDO-ALLDAYEVENT:FALSE
SUMMARY:Mimi's Jewelry Grand Re-Opening
DESCRIPTION:Mimi's Jewelry Grand Re-Opening\n\n2 Day Event
X-ALT-DESC;FMTTYPE=text/html:<span style="font-size:18px\;"><strong>Mimi&#39\;s Jewelry Grand Re-Opening<br />\n2 Day Event</strong></span>
LOCATION:18591 Brookhurst Street Fountain Valley
UID:e.2030.2360
SEQUENCE:3
DTSTAMP:20260426T000720Z
URL:http://business.fvchamber.com/events/details/mimi-s-jewelry-grand-re-opening-12-04-2015-2360
END:VEVENT

END:VCALENDAR
