BEGIN:VCALENDAR
VERSION:2.0
PRODID:-//ChamberMaster//Event Calendar 2.0//EN
METHOD:PUBLISH
X-PUBLISHED-TTL:P3D
REFRESH-INTERVAL:P3D
CALSCALE:GREGORIAN
BEGIN:VEVENT
DTSTART:20200404T170000Z
DTEND:20200404T210000Z
X-MICROSOFT-CDO-ALLDAYEVENT:FALSE
SUMMARY:Military Child Celebration
DESCRIPTION:"Calling all Veteran & Military Connected Familes!" Join us as we celebrate and honor military-connected children and youth in Orange County\, and surrounding areas.\n\n\n\nEVENT SPONSORSHIPS AVAILABLE!
X-ALT-DESC;FMTTYPE=text/html:<strong><span style="color:#800080\;"><span style="font-family:verdana\;"><span style="font-size:16px\;">&quot\;Calling all Veteran &amp\; Military Connected Familes!&quot\; Join us as we celebrate and honor military-connected children and youth in Orange County\, and surrounding areas.<br />\n<br />\nEVENT SPONSORSHIPS AVAILABLE!</span></span></span></strong>
LOCATION:Freedom Hall Mile Square Park 16801 Euclid St. Fountain Valley\, CA
UID:e.2030.5308
SEQUENCE:3
DTSTAMP:20260422T160636Z
URL:http://business.fvchamber.com/events/details/military-child-celebration-5308
END:VEVENT

END:VCALENDAR
