BEGIN:VCALENDAR
VERSION:2.0
PRODID:-//ChamberMaster//Event Calendar 2.0//EN
METHOD:PUBLISH
X-PUBLISHED-TTL:P3D
REFRESH-INTERVAL:P3D
CALSCALE:GREGORIAN
BEGIN:VEVENT
DTSTART;VALUE=DATE:20161225
DTEND;VALUE=DATE:20161226
TRANSP:TRANSPARENT
X-MICROSOFT-CDO-ALLDAYEVENT:TRUE
SUMMARY:Merry Christmas and Happy Holidays
DESCRIPTION:Merry Christmas and Happy Holidays
X-ALT-DESC;FMTTYPE=text/html:<span style="color:#000080\;"><span style="font-size: 16px\;"><strong>Merry Christmas and Happy Holidays</strong></span></span>
LOCATION:
UID:e.2030.2347
SEQUENCE:3
DTSTAMP:20260425T034909Z
URL:http://business.fvchamber.com/events/details/merry-christmas-and-happy-holidays-12-25-2016-2347
END:VEVENT

END:VCALENDAR
