BEGIN:VCALENDAR
VERSION:2.0
PRODID:-//ChamberMaster//Event Calendar 2.0//EN
METHOD:PUBLISH
X-PUBLISHED-TTL:P3D
REFRESH-INTERVAL:P3D
CALSCALE:GREGORIAN
BEGIN:VEVENT
DTSTART;VALUE=DATE:20170529
DTEND;VALUE=DATE:20170530
TRANSP:TRANSPARENT
X-MICROSOFT-CDO-ALLDAYEVENT:TRUE
SUMMARY:Memorial Day Holiday
DESCRIPTION:Happy Memorial Day
X-ALT-DESC;FMTTYPE=text/html:<span style="font-size:14px\;"><strong>Happy Memorial Day</strong></span>
LOCATION:
UID:e.2030.4170
SEQUENCE:3
DTSTAMP:20260424T200936Z
URL:http://business.fvchamber.com/events/details/memorial-day-holiday-4170
END:VEVENT

END:VCALENDAR
