BEGIN:VCALENDAR
VERSION:2.0
PRODID:-//ChamberMaster//Event Calendar 2.0//EN
METHOD:PUBLISH
X-PUBLISHED-TTL:P3D
REFRESH-INTERVAL:P3D
CALSCALE:GREGORIAN
BEGIN:VEVENT
DTSTART;VALUE=DATE:20160530
DTEND;VALUE=DATE:20160531
TRANSP:TRANSPARENT
X-MICROSOFT-CDO-ALLDAYEVENT:TRUE
SUMMARY:Memorial Day HOLIDAY
DESCRIPTION:Memorial Day\n\nChamber Office Closed
X-ALT-DESC;FMTTYPE=text/html:<span style="font-size:14px\;"><strong><span style="color:#000080\;"><span style="font-size: 16px\;">Memorial Day</span></span><br>\n<em>Chamber Office Closed</em></strong></span>
LOCATION:
UID:e.2030.2355
SEQUENCE:3
DTSTAMP:20260425T141920Z
URL:http://business.fvchamber.com/events/details/memorial-day-holiday-05-30-2016-2355
END:VEVENT

END:VCALENDAR
